BEGIN:VCALENDAR
VERSION:2.0
PRODID:-//175.45.125.149//NONSGML kigkonsult.se iCalcreator 2.26.9//
CALSCALE:GREGORIAN
METHOD:PUBLISH
X-FROM-URL:http://institute.auburn.sa.au
X-WR-TIMEZONE:Australia/Adelaide
BEGIN:VTIMEZONE
TZID:Australia/Adelaide
X-LIC-LOCATION:Australia/Adelaide
BEGIN:STANDARD
DTSTART:20200405T030000
TZOFFSETFROM:+1030
TZOFFSETTO:+0930
RDATE:20210404T030000
TZNAME:ACST
END:STANDARD
BEGIN:DAYLIGHT
DTSTART:20191006T020000
TZOFFSETFROM:+0930
TZOFFSETTO:+1030
RDATE:20201004T020000
TZNAME:ACDT
END:DAYLIGHT
END:VTIMEZONE
BEGIN:VEVENT
UID:ai1ec-819@institute.auburn.sa.au
DTSTAMP:20200227T173612Z
CATEGORIES;LANGUAGE=en-AU:ACDC Meetings
CONTACT:
DESCRIPTION:AUBURN COMMUNITY DEVELOPMENT COMMITTEE (ACDC)\nManagement Meeti
 ng – Normal day and time
DTSTART;TZID=Australia/Adelaide:20190108T190000
DTEND;TZID=Australia/Adelaide:20190108T210000
LOCATION:Auburn Institute
RRULE:FREQ=MONTHLY;BYDAY=2TU
SEQUENCE:0
SUMMARY:ACDC Meetings
URL:http://institute.auburn.sa.au/event/acdc-meetings/
X-COST-TYPE:free
X-ALT-DESC;FMTTYPE=text/html:<!DOCTYPE HTML PUBLIC '-//W3C//DTD HTML 3.2//E
 N'>\\n<HTML>\\n<HEAD>\\n<TITLE></TITLE>\\n</HEAD>\\n<BODY><h1>AUBURN COMMU
 NITY DEVELOPMENT COMMITTEE (ACDC)</h1>\n<p>Management Meeting – Normal day
  and time</p>\n</BODY></HTML>
END:VEVENT
BEGIN:VEVENT
UID:ai1ec-856@institute.auburn.sa.au
DTSTAMP:20200227T173612Z
CATEGORIES:
CONTACT:Auburn Institute\; 1300 907 284\; institute@auburn.sa.au\; institut
 e.auburn.sa.au
DESCRIPTION:
DTSTART;TZID=Australia/Adelaide:20190224T140000
DTEND;TZID=Australia/Adelaide:20190224T160000
LOCATION:Auburn Institute Hall @ 30 Main North Rd Auburn SA 5451
SEQUENCE:0
SUMMARY:Adelaide Plains Male Voice Choir
URL:http://institute.auburn.sa.au/event/adelaide-plains-male-voice-choir/
X-COST-TYPE:free
X-COST:$25.00 at the door or buy online for $20.00 www.trybooking.com/46436
 6
END:VEVENT
BEGIN:VEVENT
UID:ai1ec-867@institute.auburn.sa.au
DTSTAMP:20200227T173612Z
CATEGORIES:
CONTACT:
DESCRIPTION:Proudly sponsored by the SA Government – SA Health. An arts and
  health initiative for healthier communities\nAfternoon tea will be availa
 ble for a gold coin donation
DTSTART;TZID=Australia/Adelaide:20190505T140000
DTEND;TZID=Australia/Adelaide:20190505T170000
GEO:-34.025255;+138.685767
LOCATION:Auburn Institute @ 30 Main North Rd Auburn SA
SEQUENCE:0
SUMMARY:CARPE DIEM – A timeless play of loss and recovery
URL:http://institute.auburn.sa.au/event/carpe-diem-a-timeless-play-of-loss-
 and-recovery/
X-COST-TYPE:free
X-ALT-DESC;FMTTYPE=text/html:<!DOCTYPE HTML PUBLIC '-//W3C//DTD HTML 3.2//E
 N'>\\n<HTML>\\n<HEAD>\\n<TITLE></TITLE>\\n</HEAD>\\n<BODY><p>Proudly spons
 ored by the SA Government – SA Health. An arts and health initiative for h
 ealthier communities</p>\n<p>Afternoon tea will be available for a gold co
 in donation</p>\n</BODY></HTML>
END:VEVENT
BEGIN:VEVENT
UID:ai1ec-868@institute.auburn.sa.au
DTSTAMP:20200227T173612Z
CATEGORIES:
CONTACT:
DESCRIPTION:Come and join the celebrations of Taylors 50 year anniversary\,
  click on the link https://www.clarevalley.com.au/events/gourmet-weekend a
 nd purchase your ticket to a night of fun\, food\, wine and music.
DTSTART;TZID=Australia/Adelaide:20190518T180000
DTEND;TZID=Australia/Adelaide:20190518T234500
LOCATION:Auburn Institute @ 30 Main North Rd Auburn SA
SEQUENCE:0
SUMMARY:Taylors Wines 50th Anniversary Dinner – Gourmet Event
URL:http://institute.auburn.sa.au/event/taylors-wines-50th-anniversary-dinn
 er-gourmet-event/
X-COST-TYPE:free
X-ALT-DESC;FMTTYPE=text/html:<!DOCTYPE HTML PUBLIC '-//W3C//DTD HTML 3.2//E
 N'>\\n<HTML>\\n<HEAD>\\n<TITLE></TITLE>\\n</HEAD>\\n<BODY><p>Come and join
  the celebrations of Taylors 50 year anniversary\, click on the link https
 ://www.clarevalley.com.au/events/gourmet-weekend and purchase your ticket 
 to a night of fun\, food\, wine and music.</p>\n</BODY></HTML>
END:VEVENT
BEGIN:VEVENT
UID:ai1ec-869@institute.auburn.sa.au
DTSTAMP:20200227T173612Z
CATEGORIES:
CONTACT:
DESCRIPTION:Hand made products on sale made from hand spun wool and alpaca 
 fleece.
DTSTART;TZID=Australia/Adelaide:20190602T100000
DTEND;TZID=Australia/Adelaide:20190602T160000
LOCATION:Auburn Institute @ 30 Main North Rd Auburn SA
SEQUENCE:0
SUMMARY:The Auburn Wool & Fibre Fair
URL:http://institute.auburn.sa.au/event/the-auburn-wool-fibre-fair/
X-COST-TYPE:free
X-ALT-DESC;FMTTYPE=text/html:<!DOCTYPE HTML PUBLIC '-//W3C//DTD HTML 3.2//E
 N'>\\n<HTML>\\n<HEAD>\\n<TITLE></TITLE>\\n</HEAD>\\n<BODY><p>Hand made pro
 ducts on sale made from hand spun wool and alpaca fleece.</p>\n</BODY></HT
 ML>
END:VEVENT
BEGIN:VEVENT
UID:ai1ec-870@institute.auburn.sa.au
DTSTAMP:20200227T173612Z
CATEGORIES:
CONTACT:Cherie Harvey\; admin@hatsincsa.com\; https://www.hatsincsa.com
DESCRIPTION:
DTSTART;TZID=Australia/Adelaide:20190910T200000
DTEND;TZID=Australia/Adelaide:20190910T233000
LOCATION:Auburn Institute @ 30 Main North Rd Auburn SA
SEQUENCE:0
SUMMARY:HATS & Country Arts SA Live Show
URL:http://institute.auburn.sa.au/event/hats-country-arts-sa-live-show/
X-COST-TYPE:free
X-COST:TBA
END:VEVENT
END:VCALENDAR
