BEGIN:VCALENDAR
VERSION:2.0
PRODID:-//175.45.125.149//NONSGML kigkonsult.se iCalcreator 2.26.9//
CALSCALE:GREGORIAN
METHOD:PUBLISH
X-WR-CALNAME:Auburn Institute
X-WR-CALDESC:South Australia
X-FROM-URL:http://institute.auburn.sa.au
X-WR-TIMEZONE:Australia/Adelaide
BEGIN:VTIMEZONE
TZID:Australia/Adelaide
X-LIC-LOCATION:Australia/Adelaide
BEGIN:STANDARD
DTSTART:20200405T030000
TZOFFSETFROM:+1030
TZOFFSETTO:+0930
RDATE:20210404T030000
TZNAME:ACST
END:STANDARD
BEGIN:DAYLIGHT
DTSTART:20191006T020000
TZOFFSETFROM:+0930
TZOFFSETTO:+1030
RDATE:20201004T020000
TZNAME:ACDT
END:DAYLIGHT
END:VTIMEZONE
BEGIN:VEVENT
UID:ai1ec-819@institute.auburn.sa.au
DTSTAMP:20200227T173755Z
CATEGORIES;LANGUAGE=en-AU:ACDC Meetings
CONTACT:
DESCRIPTION:AUBURN COMMUNITY DEVELOPMENT COMMITTEE (ACDC)\nManagement Meeti
 ng – Normal day and time
DTSTART;TZID=Australia/Adelaide:20190108T190000
DTEND;TZID=Australia/Adelaide:20190108T210000
LOCATION:Auburn Institute
RRULE:FREQ=MONTHLY;BYDAY=2TU
SEQUENCE:0
SUMMARY:ACDC Meetings
URL:http://institute.auburn.sa.au/event/acdc-meetings/
X-COST-TYPE:free
X-ALT-DESC;FMTTYPE=text/html:<!DOCTYPE HTML PUBLIC '-//W3C//DTD HTML 3.2//E
 N'>\\n<HTML>\\n<HEAD>\\n<TITLE></TITLE>\\n</HEAD>\\n<BODY><h1>AUBURN COMMU
 NITY DEVELOPMENT COMMITTEE (ACDC)</h1>\n<p>Management Meeting – Normal day
  and time</p>\n</BODY></HTML>
END:VEVENT
END:VCALENDAR
